BEGIN:VCALENDAR
VERSION:2.0
PRODID:-//Zinne - ECPv6.15.20//NONSGML v1.0//EN
CALSCALE:GREGORIAN
METHOD:PUBLISH
X-WR-CALNAME:Zinne
X-ORIGINAL-URL:https://www.zinne.brussels
X-WR-CALDESC:Évènements pour Zinne
REFRESH-INTERVAL;VALUE=DURATION:PT1H
X-Robots-Tag:noindex
X-PUBLISHED-TTL:PT1H
BEGIN:VTIMEZONE
TZID:Europe/Brussels
BEGIN:DAYLIGHT
TZOFFSETFROM:+0100
TZOFFSETTO:+0200
TZNAME:CEST
DTSTART:20230326T010000
END:DAYLIGHT
BEGIN:STANDARD
TZOFFSETFROM:+0200
TZOFFSETTO:+0100
TZNAME:CET
DTSTART:20231029T010000
END:STANDARD
BEGIN:DAYLIGHT
TZOFFSETFROM:+0100
TZOFFSETTO:+0200
TZNAME:CEST
DTSTART:20240331T010000
END:DAYLIGHT
BEGIN:STANDARD
TZOFFSETFROM:+0200
TZOFFSETTO:+0100
TZNAME:CET
DTSTART:20241027T010000
END:STANDARD
BEGIN:DAYLIGHT
TZOFFSETFROM:+0100
TZOFFSETTO:+0200
TZNAME:CEST
DTSTART:20250330T010000
END:DAYLIGHT
BEGIN:STANDARD
TZOFFSETFROM:+0200
TZOFFSETTO:+0100
TZNAME:CET
DTSTART:20251026T010000
END:STANDARD
END:VTIMEZONE
BEGIN:VEVENT
DTSTART;TZID=Europe/Brussels:20241214T103000
DTEND;TZID=Europe/Brussels:20241214T123000
DTSTAMP:20260419T143102
CREATED:20240529T144537Z
LAST-MODIFIED:20241120T075051Z
UID:689-1734172200-1734179400@www.zinne.brussels
SUMMARY:Balade guidée Zinne Bazaar | Centre (FR) | Découvre l'économie locale et engagée bruxelloise !
DESCRIPTION: Explore les trésors cachés de Bruxelles ! \nPars en balade\, découvre les histoires\, secrets et bons plans qui se cachent derrière les vitrines de ta ville. Tu découvriras en même temps les rouages d’une monnaie locale et comment elle crée du lien entre les habitant·e·s et des initiatives engagées. \nRéservation ici \nLa réservation est à 5€ mais 5 Zinnes te seront rendu pendant la balade !
URL:https://www.zinne.brussels/event/zinne-bazaar-centre-fr-la-decouverte-de-leconomie-locale-et-engagee-7/
LOCATION:Grand Hospice\, 7 rue du Grand Hospice\, Bruxelles\, 1000\, Belgique
CATEGORIES:Découvrir
ATTACH;FMTTYPE=image/jpeg:https://www.zinne.brussels/wp-content/uploads/2024/05/ZINNE-BAZAAR-1.jpg
END:VEVENT
END:VCALENDAR