BEGIN:VCALENDAR
VERSION:2.0
PRODID:-//Zinne - ECPv6.15.20//NONSGML v1.0//EN
CALSCALE:GREGORIAN
METHOD:PUBLISH
X-ORIGINAL-URL:https://www.zinne.brussels
X-WR-CALDESC:Évènements pour Zinne
REFRESH-INTERVAL;VALUE=DURATION:PT1H
X-Robots-Tag:noindex
X-PUBLISHED-TTL:PT1H
BEGIN:VTIMEZONE
TZID:Europe/Brussels
BEGIN:DAYLIGHT
TZOFFSETFROM:+0100
TZOFFSETTO:+0200
TZNAME:CEST
DTSTART:20240331T010000
END:DAYLIGHT
BEGIN:STANDARD
TZOFFSETFROM:+0200
TZOFFSETTO:+0100
TZNAME:CET
DTSTART:20241027T010000
END:STANDARD
BEGIN:DAYLIGHT
TZOFFSETFROM:+0100
TZOFFSETTO:+0200
TZNAME:CEST
DTSTART:20250330T010000
END:DAYLIGHT
BEGIN:STANDARD
TZOFFSETFROM:+0200
TZOFFSETTO:+0100
TZNAME:CET
DTSTART:20251026T010000
END:STANDARD
BEGIN:DAYLIGHT
TZOFFSETFROM:+0100
TZOFFSETTO:+0200
TZNAME:CEST
DTSTART:20260329T010000
END:DAYLIGHT
BEGIN:STANDARD
TZOFFSETFROM:+0200
TZOFFSETTO:+0100
TZNAME:CET
DTSTART:20261025T010000
END:STANDARD
END:VTIMEZONE
BEGIN:VEVENT
DTSTART;TZID=Europe/Brussels:20250510T110000
DTEND;TZID=Europe/Brussels:20250510T130000
DTSTAMP:20260425T224657
CREATED:20241120T075859Z
LAST-MODIFIED:20241120T080658Z
UID:1280-1746874800-1746882000@www.zinne.brussels
SUMMARY:Wandeling Zinne Bazaar | Centrum (NL) | Ontdek de lokale en geëngageerde economie van Brussel!
DESCRIPTION:Ken je de Zinne al? \nHet is de lokale burgermunt waarmee je bij vele super initiatieven in Brussel terecht kunt. Vaak zijn deze plekjes nog wat onbekend en we willen deze net belichten tijdens de wandeling.  \nVerken samen met ons de verhalen van verschillende projecten in Brussel\, laat u inspireren en ontdek meteen waar u de Zinne kunt gebruiken. \nInschrijven
URL:https://www.zinne.brussels/event/wandeling-zinne-bazaar-centrum-nl-ontdek-de-lokale-en-geengageerde-economie-van-brussel/
LOCATION:Grand Hospice\, 7 rue du Grand Hospice\, Bruxelles\, 1000\, Belgique
CATEGORIES:Découvrir
ATTACH;FMTTYPE=image/jpeg:https://www.zinne.brussels/wp-content/uploads/2024/05/ZINNE-BAZAAR-1.jpg
END:VEVENT
END:VCALENDAR