BEGIN:VCALENDAR
VERSION:2.0
PRODID:-//Zinne - ECPv6.15.20//NONSGML v1.0//EN
CALSCALE:GREGORIAN
METHOD:PUBLISH
X-WR-CALNAME:Zinne
X-ORIGINAL-URL:https://www.zinne.brussels
X-WR-CALDESC:Évènements pour Zinne
REFRESH-INTERVAL;VALUE=DURATION:PT1H
X-Robots-Tag:noindex
X-PUBLISHED-TTL:PT1H
BEGIN:VTIMEZONE
TZID:Europe/Brussels
BEGIN:DAYLIGHT
TZOFFSETFROM:+0100
TZOFFSETTO:+0200
TZNAME:CEST
DTSTART:20230326T010000
END:DAYLIGHT
BEGIN:STANDARD
TZOFFSETFROM:+0200
TZOFFSETTO:+0100
TZNAME:CET
DTSTART:20231029T010000
END:STANDARD
BEGIN:DAYLIGHT
TZOFFSETFROM:+0100
TZOFFSETTO:+0200
TZNAME:CEST
DTSTART:20240331T010000
END:DAYLIGHT
BEGIN:STANDARD
TZOFFSETFROM:+0200
TZOFFSETTO:+0100
TZNAME:CET
DTSTART:20241027T010000
END:STANDARD
BEGIN:DAYLIGHT
TZOFFSETFROM:+0100
TZOFFSETTO:+0200
TZNAME:CEST
DTSTART:20250330T010000
END:DAYLIGHT
BEGIN:STANDARD
TZOFFSETFROM:+0200
TZOFFSETTO:+0100
TZNAME:CET
DTSTART:20251026T010000
END:STANDARD
END:VTIMEZONE
BEGIN:VEVENT
DTSTART;TZID=Europe/Brussels:20240906T110000
DTEND;TZID=Europe/Brussels:20240906T130000
DTSTAMP:20260421T101315
CREATED:20241120T080443Z
LAST-MODIFIED:20241120T080443Z
UID:1286-1725620400-1725627600@www.zinne.brussels
SUMMARY:Balade guidée Zinne Bazaar | Marolles (FR) | Découvre l'économie locale et engagée bruxelloise !
DESCRIPTION: Explore les trésors cachés de Bruxelles ! \nPars en balade\, découvre les histoires\, secrets et bons plans qui se cachent derrière les vitrines de ta ville. Tu découvriras en même temps les rouages d’une monnaie locale et comment elle crée du lien entre les habitant·e·s et des initiatives engagées. \nRéservation ici \nLa réservation est à 5€ mais 5 Zinnes te seront rendu pendant la balade !
URL:https://www.zinne.brussels/event/balade-guidee-zinne-bazaar-marolles-fr-decouvre-leconomie-locale-et-engagee-bruxelloise-3/
LOCATION:Palais de Justice\, devant l’obélisque\, Poelaertplein 1\, Bruxelles\, 1000
ATTACH;FMTTYPE=image/jpeg:https://www.zinne.brussels/wp-content/uploads/2024/05/ZINNE-BAZAAR.jpg
END:VEVENT
BEGIN:VEVENT
DTSTART;TZID=Europe/Brussels:20240914T103000
DTEND;TZID=Europe/Brussels:20240914T123000
DTSTAMP:20260421T101315
CREATED:20240529T142559Z
LAST-MODIFIED:20240725T144444Z
UID:670-1726309800-1726317000@www.zinne.brussels
SUMMARY:ZINNE BAZAAR | Marolles (FR) | La découverte de l'economie locale et engagée!
DESCRIPTION:Plonge avec nous dans le grand Zinne Bazaar \nPars en balade\, découvre les histoires\, secrets et bons plans qui se cachent derrière les vitrines de ta ville. Tu découvriras en même temps les rouages d’une monnaie locale et comment elle crée du lien entre les habitant·e·s et des initiatives engagées. \nRéservation ici \nLa réservation est à 5€ mais 5 Zinnes te seront rendu pendant la balade !
URL:https://www.zinne.brussels/event/zinne-bazaar-marolles-fr-la-decouverte-de-leconomie-locale-et-engagee-3/
LOCATION:Palais de Justice\, devant l’obélisque\, Poelaertplein 1\, Bruxelles\, 1000
CATEGORIES:Découvrir
ATTACH;FMTTYPE=image/jpeg:https://www.zinne.brussels/wp-content/uploads/2024/05/ZINNE-BAZAAR.jpg
END:VEVENT
BEGIN:VEVENT
DTSTART;TZID=Europe/Brussels:20240928T103000
DTEND;TZID=Europe/Brussels:20240928T123000
DTSTAMP:20260421T101315
CREATED:20240529T143922Z
LAST-MODIFIED:20240725T144357Z
UID:683-1727519400-1727526600@www.zinne.brussels
SUMMARY:ZINNE BAZAAR | Centre (FR) | La découverte de l'économie locale et engagée!
DESCRIPTION: Plonge avec nous dans le grand Zinne Bazaar \nPars en balade\, découvre les histoires\, secrets et bons plans qui se cachent derrière les vitrines de ta ville. Tu découvriras en même temps les rouages d’une monnaie locale et comment elle crée du lien entre les habitant·e·s et des initiatives engagées. \nRéservation ici \nLa réservation est à 5€ mais 5 Zinnes te seront rendu pendant la balade !
URL:https://www.zinne.brussels/event/zinne-bazaar-centre-fr-la-decouverte-de-leconomie-locale-et-engagee-4/
LOCATION:Grand Hospice\, 7 rue du Grand Hospice\, Bruxelles\, 1000\, Belgique
CATEGORIES:Découvrir
ATTACH;FMTTYPE=image/jpeg:https://www.zinne.brussels/wp-content/uploads/2024/05/ZINNE-BAZAAR-1.jpg
END:VEVENT
END:VCALENDAR